BEGIN:VCALENDAR
VERSION:2.0
PRODID:-//Nehrling Gardens - ECPv6.15.1.1//NONSGML v1.0//EN
CALSCALE:GREGORIAN
METHOD:PUBLISH
X-ORIGINAL-URL:https://nehrlinggardens.org
X-WR-CALDESC:Events for Nehrling Gardens
REFRESH-INTERVAL;VALUE=DURATION:PT1H
X-Robots-Tag:noindex
X-PUBLISHED-TTL:PT1H
BEGIN:VTIMEZONE
TZID:America/New_York
BEGIN:DAYLIGHT
TZOFFSETFROM:-0500
TZOFFSETTO:-0400
TZNAME:EDT
DTSTART:20240310T070000
END:DAYLIGHT
BEGIN:STANDARD
TZOFFSETFROM:-0400
TZOFFSETTO:-0500
TZNAME:EST
DTSTART:20241103T060000
END:STANDARD
END:VTIMEZONE
BEGIN:VEVENT
DTSTART;TZID=America/New_York:20241012T090000
DTEND;TZID=America/New_York:20241012T150000
DTSTAMP:20260425T065008
CREATED:20231201T162855Z
LAST-MODIFIED:20241008T163717Z
UID:3535-1728723600-1728745200@nehrlinggardens.org
SUMMARY:Canceled - Open Day at the Gardens
DESCRIPTION:Because of Hurricane Milton\, the gardens will be close for saftey as we access the damage.
URL:https://nehrlinggardens.org/event/open-day-at-the-gardens-124/
CATEGORIES:Open Days
END:VEVENT
END:VCALENDAR