BEGIN:VCALENDAR
VERSION:2.0
PRODID:-//Nehrling Gardens - ECPv6.15.1.1//NONSGML v1.0//EN
CALSCALE:GREGORIAN
METHOD:PUBLISH
X-ORIGINAL-URL:https://nehrlinggardens.org
X-WR-CALDESC:Events for Nehrling Gardens
REFRESH-INTERVAL;VALUE=DURATION:PT1H
X-Robots-Tag:noindex
X-PUBLISHED-TTL:PT1H
BEGIN:VTIMEZONE
TZID:America/New_York
BEGIN:DAYLIGHT
TZOFFSETFROM:-0500
TZOFFSETTO:-0400
TZNAME:EDT
DTSTART:20250309T070000
END:DAYLIGHT
BEGIN:STANDARD
TZOFFSETFROM:-0400
TZOFFSETTO:-0500
TZNAME:EST
DTSTART:20251102T060000
END:STANDARD
END:VTIMEZONE
BEGIN:VEVENT
DTSTART;TZID=America/New_York:20250101T000000
DTEND;TZID=America/New_York:20250101T235959
DTSTAMP:20260421T081436
CREATED:20241021T235838Z
LAST-MODIFIED:20241022T000351Z
UID:3700-1735689600-1735775999@nehrlinggardens.org
SUMMARY:Closed
DESCRIPTION:Closed for New Years Day
URL:https://nehrlinggardens.org/event/open-day-at-the-gardens-135/
CATEGORIES:Open Days
END:VEVENT
END:VCALENDAR